BEGIN:VCALENDAR
VERSION:2.0
PRODID:-//CAPC, Inc. - ECPv6.15.20//NONSGML v1.0//EN
CALSCALE:GREGORIAN
METHOD:PUBLISH
X-ORIGINAL-URL:https://www.capcinc.org
X-WR-CALDESC:Events for CAPC, Inc.
REFRESH-INTERVAL;VALUE=DURATION:PT1H
X-Robots-Tag:noindex
X-PUBLISHED-TTL:PT1H
BEGIN:VTIMEZONE
TZID:America/Los_Angeles
BEGIN:DAYLIGHT
TZOFFSETFROM:-0800
TZOFFSETTO:-0700
TZNAME:PDT
DTSTART:20240310T100000
END:DAYLIGHT
BEGIN:STANDARD
TZOFFSETFROM:-0700
TZOFFSETTO:-0800
TZNAME:PST
DTSTART:20241103T090000
END:STANDARD
BEGIN:DAYLIGHT
TZOFFSETFROM:-0800
TZOFFSETTO:-0700
TZNAME:PDT
DTSTART:20250309T100000
END:DAYLIGHT
BEGIN:STANDARD
TZOFFSETFROM:-0700
TZOFFSETTO:-0800
TZNAME:PST
DTSTART:20251102T090000
END:STANDARD
BEGIN:DAYLIGHT
TZOFFSETFROM:-0800
TZOFFSETTO:-0700
TZNAME:PDT
DTSTART:20260308T100000
END:DAYLIGHT
BEGIN:STANDARD
TZOFFSETFROM:-0700
TZOFFSETTO:-0800
TZNAME:PST
DTSTART:20261101T090000
END:STANDARD
END:VTIMEZONE
BEGIN:VEVENT
DTSTART;TZID=America/Los_Angeles:20250715T080000
DTEND;TZID=America/Los_Angeles:20250731T170000
DTSTAMP:20260425T043900
CREATED:20250708T210935Z
LAST-MODIFIED:20250708T212550Z
UID:10000025-1752566400-1753981200@www.capcinc.org
SUMMARY:North Orange County Continuing Education Registration Starts July 15\, 2025
DESCRIPTION:Registration at North Orange Community College Starts July 15\, 2025 at 8:00 a.m. North Orange County Continuing Education offers FREE college preparation courses to help build confidence and skills to succeed in college. \n* Free Classes * Free Food * Free Wifi * Laptop and Textbook Loans *
URL:https://www.capcinc.org/event/north-orange-county-continuing-education-registration-starts-july-15-2025/
LOCATION:North Orange County Community College District\, 1830 W Romneya Dr. CA 92801\, Anaheim\, CA\, 92801\, United States
CATEGORIES:Community,Education,Orange County
ATTACH;FMTTYPE=image/png:https://www.capcinc.org/wp-content/uploads/NOCE-logo.png
END:VEVENT
END:VCALENDAR