BEGIN:VCALENDAR
VERSION:2.0
PRODID:-//CAPC, Inc. - ECPv6.15.20//NONSGML v1.0//EN
CALSCALE:GREGORIAN
METHOD:PUBLISH
X-WR-CALNAME:CAPC, Inc.
X-ORIGINAL-URL:https://www.capcinc.org
X-WR-CALDESC:Events for CAPC, Inc.
REFRESH-INTERVAL;VALUE=DURATION:PT1H
X-Robots-Tag:noindex
X-PUBLISHED-TTL:PT1H
BEGIN:VTIMEZONE
TZID:America/Los_Angeles
BEGIN:DAYLIGHT
TZOFFSETFROM:-0800
TZOFFSETTO:-0700
TZNAME:PDT
DTSTART:20240310T100000
END:DAYLIGHT
BEGIN:STANDARD
TZOFFSETFROM:-0700
TZOFFSETTO:-0800
TZNAME:PST
DTSTART:20241103T090000
END:STANDARD
BEGIN:DAYLIGHT
TZOFFSETFROM:-0800
TZOFFSETTO:-0700
TZNAME:PDT
DTSTART:20250309T100000
END:DAYLIGHT
BEGIN:STANDARD
TZOFFSETFROM:-0700
TZOFFSETTO:-0800
TZNAME:PST
DTSTART:20251102T090000
END:STANDARD
BEGIN:DAYLIGHT
TZOFFSETFROM:-0800
TZOFFSETTO:-0700
TZNAME:PDT
DTSTART:20260308T100000
END:DAYLIGHT
BEGIN:STANDARD
TZOFFSETFROM:-0700
TZOFFSETTO:-0800
TZNAME:PST
DTSTART:20261101T090000
END:STANDARD
END:VTIMEZONE
BEGIN:VEVENT
DTSTART;TZID=America/Los_Angeles:20251006T080000
DTEND;TZID=America/Los_Angeles:20251006T170000
DTSTAMP:20260423T032258
CREATED:20251006T165458Z
LAST-MODIFIED:20251006T165458Z
UID:10000136-1759737600-1759770000@www.capcinc.org
SUMMARY:FREE Basic Tech Training Workshop
DESCRIPTION:In this workshop you’ll learn how to do computer basics\, security basics\, app basics\, Smartphone basics\, website navigations\, and internet basics. \nParticipants must complete both in-person training days to earn a certificate of completion. \nRSVP is required to reserve a seat. \nFor assistance to register\, please contact the Whittier Wellness Community Center at (562) 775-6104. \nClick here to register
URL:https://www.capcinc.org/event/free-basic-tech-training-workshop/
CATEGORIES:Community,Education,Whittier
ATTACH;FMTTYPE=image/png:https://www.capcinc.org/wp-content/uploads/Website-Event-Resources-Photo-169-Featured-image-aspect-2.png
END:VEVENT
BEGIN:VEVENT
DTSTART;TZID=America/Los_Angeles:20251011T090000
DTEND;TZID=America/Los_Angeles:20251011T133000
DTSTAMP:20260423T032258
CREATED:20251009T174053Z
LAST-MODIFIED:20251009T174053Z
UID:10000146-1760173200-1760189400@www.capcinc.org
SUMMARY:Rio Hondo College and Career Fair
DESCRIPTION:The event is free and will take place on the Río Hondo College campus in Whittier. \nMore than 60 college and career representatives will be on hand to provide information\, guidance and resources to help attendees explore educational and workforce opportunities. \n\n\nWorkshops will also be offered for students and parents\, covering topics such as college applications\, financial aid\, certificate and trade programs\, and other pathways to higher education and job readiness.
URL:https://www.capcinc.org/event/rio-hondo-college-and-career-fair/
LOCATION:Rio Hondo College\, 3600 Workman Mill Road\, Whittier\, 90601\, United States
CATEGORIES:Community,Education,Whittier
END:VEVENT
END:VCALENDAR